BEGIN:VCALENDAR
VERSION:2.0
PRODID:-//SoWhenItBe - ECPv6.15.15//NONSGML v1.0//EN
CALSCALE:GREGORIAN
METHOD:PUBLISH
X-WR-CALNAME:SoWhenItBe
X-ORIGINAL-URL:https://my.sowhenitbe.com
X-WR-CALDESC:Events for SoWhenItBe
REFRESH-INTERVAL;VALUE=DURATION:PT1H
X-Robots-Tag:noindex
X-PUBLISHED-TTL:PT1H
BEGIN:VTIMEZONE
TZID:America/New_York
BEGIN:DAYLIGHT
TZOFFSETFROM:-0500
TZOFFSETTO:-0400
TZNAME:EDT
DTSTART:20250309T070000
END:DAYLIGHT
BEGIN:STANDARD
TZOFFSETFROM:-0400
TZOFFSETTO:-0500
TZNAME:EST
DTSTART:20251102T060000
END:STANDARD
BEGIN:DAYLIGHT
TZOFFSETFROM:-0500
TZOFFSETTO:-0400
TZNAME:EDT
DTSTART:20260308T070000
END:DAYLIGHT
BEGIN:STANDARD
TZOFFSETFROM:-0400
TZOFFSETTO:-0500
TZNAME:EST
DTSTART:20261101T060000
END:STANDARD
BEGIN:DAYLIGHT
TZOFFSETFROM:-0500
TZOFFSETTO:-0400
TZNAME:EDT
DTSTART:20270314T070000
END:DAYLIGHT
BEGIN:STANDARD
TZOFFSETFROM:-0400
TZOFFSETTO:-0500
TZNAME:EST
DTSTART:20271107T060000
END:STANDARD
END:VTIMEZONE
BEGIN:VEVENT
DTSTART;TZID=America/New_York:20260421T190000
DTEND;TZID=America/New_York:20260421T203000
DTSTAMP:20260421T014636
CREATED:20260409T155928Z
LAST-MODIFIED:20260409T155928Z
UID:10003119-1776798000-1776803400@my.sowhenitbe.com
SUMMARY:Extra Meeting (Third Degree Conferral)
DESCRIPTION:Spring-Ford Lodge No. 553 will hold an Extra Meeting for the purpose of conferring the Master Mason (Third) Degree. \nAll Brothers are encouraged to attend and support this important milestone in a candidate’s Masonic journey. Your presence helps strengthen the experience and upholds the traditions of the Craft. \n🕰️ Meeting Time: As scheduled by the Lodge📍 Location:Spring-Ford Lodge No. 553659 Church StreetRoyersford\, PA 19468 \nJoin us for an evening of meaningful work\, fellowship\, and the continuation of Masonic light.
URL:https://my.sowhenitbe.com/event/extra-meeting-third-degree-conferral/
LOCATION:Spring-Ford Lodge No. 553\, 659 Church St\, Royersford\, 19468
CATEGORIES:Degree Work,Extra Meeting
ATTACH;FMTTYPE=image/jpeg:https://my.sowhenitbe.com/wp-content/uploads/2026/04/IMG_0646-2.jpeg
GEO:40.1900184;-75.5360277
X-APPLE-STRUCTURED-LOCATION;VALUE=URI;X-ADDRESS=Spring-Ford Lodge No. 553 659 Church St Royersford 19468;X-APPLE-RADIUS=500;X-TITLE=659 Church St:geo:-75.5360277,40.1900184
END:VEVENT
END:VCALENDAR