BEGIN:VCALENDAR
VERSION:2.0
PRODID:-//SoWhenItBe - ECPv6.15.15//NONSGML v1.0//EN
CALSCALE:GREGORIAN
METHOD:PUBLISH
X-WR-CALNAME:SoWhenItBe
X-ORIGINAL-URL:https://my.sowhenitbe.com
X-WR-CALDESC:Events for SoWhenItBe
REFRESH-INTERVAL;VALUE=DURATION:PT1H
X-Robots-Tag:noindex
X-PUBLISHED-TTL:PT1H
BEGIN:VTIMEZONE
TZID:America/New_York
BEGIN:DAYLIGHT
TZOFFSETFROM:-0500
TZOFFSETTO:-0400
TZNAME:EDT
DTSTART:20250309T070000
END:DAYLIGHT
BEGIN:STANDARD
TZOFFSETFROM:-0400
TZOFFSETTO:-0500
TZNAME:EST
DTSTART:20251102T060000
END:STANDARD
BEGIN:DAYLIGHT
TZOFFSETFROM:-0500
TZOFFSETTO:-0400
TZNAME:EDT
DTSTART:20260308T070000
END:DAYLIGHT
BEGIN:STANDARD
TZOFFSETFROM:-0400
TZOFFSETTO:-0500
TZNAME:EST
DTSTART:20261101T060000
END:STANDARD
BEGIN:DAYLIGHT
TZOFFSETFROM:-0500
TZOFFSETTO:-0400
TZNAME:EDT
DTSTART:20270314T070000
END:DAYLIGHT
BEGIN:STANDARD
TZOFFSETFROM:-0400
TZOFFSETTO:-0500
TZNAME:EST
DTSTART:20271107T060000
END:STANDARD
END:VTIMEZONE
BEGIN:VEVENT
DTSTART;TZID=America/New_York:20260423T193000
DTEND;TZID=America/New_York:20260423T210000
DTSTAMP:20260423T010438
CREATED:20260311T092907Z
LAST-MODIFIED:20260311T093751Z
UID:10003048-1776972600-1776978000@my.sowhenitbe.com
SUMMARY:Entered Apprentice Degree
DESCRIPTION:Kennett Lodge invites all Masons to join us as we confer our first Entered Apprentice Degree of the year. If you are available\, come out and support the Lodge and our newest Brother as he begins his journey in Freemasonry. Visiting Brothers from across the District are always welcome. \n📍 Location\nKennett Lodge No. 475\n121 Center Street\nKennett Square\, PA 19348 \nLocated in the heart of downtown Kennett Square\, Kennett Lodge has been serving the community and the Craft since 1870 as a constituent lodge of the Grand Lodge of Pennsylvania. \nParking:\n• Free parking after hours is available in the lot on W. Cypress Street directly across from the lodge (Realty office lot).\n• Street parking is also available throughout the surrounding downtown blocks.
URL:https://my.sowhenitbe.com/event/kennett-lodge-no-475-entered-apprentice-degree/
LOCATION:Kennett Masonic Lodge\, 121 Center Street\, Kennett Square\, 19348\, United States
CATEGORIES:Degree Work
ATTACH;FMTTYPE=image/jpeg:https://my.sowhenitbe.com/wp-content/uploads/2026/01/326477307_1532924247113186_7716930872616811998_n1.jpg
GEO:39.8457547;-75.7132607
X-APPLE-STRUCTURED-LOCATION;VALUE=URI;X-ADDRESS=Kennett Masonic Lodge 121 Center Street Kennett Square 19348 United States;X-APPLE-RADIUS=500;X-TITLE=121 Center Street:geo:-75.7132607,39.8457547
END:VEVENT
END:VCALENDAR