BEGIN:VCALENDAR
VERSION:2.0
PRODID:-//SoWhenItBe - ECPv6.15.15//NONSGML v1.0//EN
CALSCALE:GREGORIAN
METHOD:PUBLISH
X-WR-CALNAME:SoWhenItBe
X-ORIGINAL-URL:https://my.sowhenitbe.com
X-WR-CALDESC:Events for SoWhenItBe
REFRESH-INTERVAL;VALUE=DURATION:PT1H
X-Robots-Tag:noindex
X-PUBLISHED-TTL:PT1H
BEGIN:VTIMEZONE
TZID:America/New_York
BEGIN:DAYLIGHT
TZOFFSETFROM:-0500
TZOFFSETTO:-0400
TZNAME:EDT
DTSTART:20270314T070000
END:DAYLIGHT
BEGIN:STANDARD
TZOFFSETFROM:-0400
TZOFFSETTO:-0500
TZNAME:EST
DTSTART:20271107T060000
END:STANDARD
BEGIN:DAYLIGHT
TZOFFSETFROM:-0500
TZOFFSETTO:-0400
TZNAME:EDT
DTSTART:20280312T070000
END:DAYLIGHT
BEGIN:STANDARD
TZOFFSETFROM:-0400
TZOFFSETTO:-0500
TZNAME:EST
DTSTART:20281105T060000
END:STANDARD
BEGIN:DAYLIGHT
TZOFFSETFROM:-0500
TZOFFSETTO:-0400
TZNAME:EDT
DTSTART:20290311T070000
END:DAYLIGHT
BEGIN:STANDARD
TZOFFSETFROM:-0400
TZOFFSETTO:-0500
TZNAME:EST
DTSTART:20291104T060000
END:STANDARD
END:VTIMEZONE
BEGIN:VEVENT
DTSTART;TZID=America/New_York:20280621T193000
DTEND;TZID=America/New_York:20280621T210000
DTSTAMP:20260419T150939
CREATED:20260123T180355Z
LAST-MODIFIED:20260218T131720Z
UID:10002582-1845228600-1845234000@my.sowhenitbe.com
SUMMARY:Williamson Lodge No. 309
DESCRIPTION:Williamson Lodge No. 309 holds its stated meeting on the third Wednesday of each month\, serving Downingtown and surrounding communities. The Lodge meets in harmony to conduct its business and strengthen the Craft. \n📍 Location:210 Manor AvenueDowningtown\, PA 19335 \nVisiting Master Masons in good standing are welcome. \nCheck out our Lodge Apparel & Regalia Store by clicking here!
URL:https://my.sowhenitbe.com/event/williamson-lodge-no-309/2028-06-21/
LOCATION:Williamson Lodge No. 309\, 210 Manor Avenue\, Downingtown\, 19335\, United States
CATEGORIES:Stated Meeting
ATTACH;FMTTYPE=image/jpeg:https://my.sowhenitbe.com/wp-content/uploads/2026/01/imgi_11_Williamson-Lodge-1.jpg
GEO:40.0066286;-75.71014
X-APPLE-STRUCTURED-LOCATION;VALUE=URI;X-ADDRESS=Williamson Lodge No. 309 210 Manor Avenue Downingtown 19335 United States;X-APPLE-RADIUS=500;X-TITLE=210 Manor Avenue:geo:-75.71014,40.0066286
END:VEVENT
BEGIN:VEVENT
DTSTART;TZID=America/New_York:20280624T140000
DTEND;TZID=America/New_York:20280624T160000
DTSTAMP:20260419T150939
CREATED:20260123T145920Z
LAST-MODIFIED:20260209T195222Z
UID:10000772-1845468000-1845475200@my.sowhenitbe.com
SUMMARY:William G. Butler Council No. 32 (KOP)
DESCRIPTION:William G. Butler Council No. 32 – Knights of Pythagoras (Prince Hall Affiliated)Stated Meeting \nWilliam G. Butler Council No. 32\, Knights of Pythagoras\, Prince Hall Affiliated\, holds its stated meeting on the last Sunday of each month\, serving Coatesville and the surrounding communities. Members are requested to assemble at 2:00 PM\, with the meeting opening promptly at 2:30 PM. \n📍 Location:360 E. Lincoln HighwayCoatesville\, PA \nVisiting members in good standing are welcome. Fellowship\, mentorship\, and proper fraternal decorum are observed in accordance with Knights of Pythagoras traditions.
URL:https://my.sowhenitbe.com/event/william-g-butler-council-no-32-kop/2028-06-24/
LOCATION:Masonic Lodge Coatesville\, 360 Lincoln Hwy East\, Coatesville\, 19320\, United States
CATEGORIES:Stated Meeting
ATTACH;FMTTYPE=image/jpeg:https://my.sowhenitbe.com/wp-content/uploads/2026/01/Brandywine-Goddard1-1.jpg
GEO:39.9837969;-75.81804
X-APPLE-STRUCTURED-LOCATION;VALUE=URI;X-ADDRESS=Masonic Lodge Coatesville 360 Lincoln Hwy East Coatesville 19320 United States;X-APPLE-RADIUS=500;X-TITLE=360 Lincoln Hwy East:geo:-75.81804,39.9837969
END:VEVENT
END:VCALENDAR