BEGIN:VCALENDAR
VERSION:2.0
PRODID:-//SoWhenItBe - ECPv6.15.15//NONSGML v1.0//EN
CALSCALE:GREGORIAN
METHOD:PUBLISH
X-WR-CALNAME:SoWhenItBe
X-ORIGINAL-URL:https://my.sowhenitbe.com
X-WR-CALDESC:Events for SoWhenItBe
REFRESH-INTERVAL;VALUE=DURATION:PT1H
X-Robots-Tag:noindex
X-PUBLISHED-TTL:PT1H
BEGIN:VTIMEZONE
TZID:America/New_York
BEGIN:DAYLIGHT
TZOFFSETFROM:-0500
TZOFFSETTO:-0400
TZNAME:EDT
DTSTART:20270314T070000
END:DAYLIGHT
BEGIN:STANDARD
TZOFFSETFROM:-0400
TZOFFSETTO:-0500
TZNAME:EST
DTSTART:20271107T060000
END:STANDARD
BEGIN:DAYLIGHT
TZOFFSETFROM:-0500
TZOFFSETTO:-0400
TZNAME:EDT
DTSTART:20280312T070000
END:DAYLIGHT
BEGIN:STANDARD
TZOFFSETFROM:-0400
TZOFFSETTO:-0500
TZNAME:EST
DTSTART:20281105T060000
END:STANDARD
BEGIN:DAYLIGHT
TZOFFSETFROM:-0500
TZOFFSETTO:-0400
TZNAME:EDT
DTSTART:20290311T070000
END:DAYLIGHT
BEGIN:STANDARD
TZOFFSETFROM:-0400
TZOFFSETTO:-0500
TZNAME:EST
DTSTART:20291104T060000
END:STANDARD
END:VTIMEZONE
BEGIN:VEVENT
DTSTART;TZID=America/New_York:20280708T090000
DTEND;TZID=America/New_York:20280708T120000
DTSTAMP:20260420T205244
CREATED:20260123T143948Z
LAST-MODIFIED:20260209T195249Z
UID:10000413-1846659600-1846670400@my.sowhenitbe.com
SUMMARY:Hope Chatham Lodge #40
DESCRIPTION:Hope Chatham Lodge No. 40\, Prince Hall Affiliated – Stated Meeting \nHope Chatham Lodge No. 40\, a proud Prince Hall Affiliated Lodge\, holds its stated meeting on the second Saturday of each month\, serving Kennett Square and the surrounding communities. Brethren are requested to assemble at 9:00 AM\, with the meeting opening promptly at 10:00 AM. \n📍 Location:121 Center StreetKennett Square\, PA \nVisiting Prince Hall Brothers in good standing are welcome. Fellowship and Masonic decorum are observed in accordance with Prince Hall traditions.
URL:https://my.sowhenitbe.com/event/hope-chatham-lodge-40/2028-07-08/
LOCATION:Kennett Masonic Lodge\, 121 Center Street\, Kennett Square\, 19348\, United States
CATEGORIES:Stated Meeting
ATTACH;FMTTYPE=image/jpeg:https://my.sowhenitbe.com/wp-content/uploads/2026/01/326477307_1532924247113186_7716930872616811998_n1.jpg
GEO:39.8457547;-75.7132607
X-APPLE-STRUCTURED-LOCATION;VALUE=URI;X-ADDRESS=Kennett Masonic Lodge 121 Center Street Kennett Square 19348 United States;X-APPLE-RADIUS=500;X-TITLE=121 Center Street:geo:-75.7132607,39.8457547
END:VEVENT
BEGIN:VEVENT
DTSTART;TZID=America/New_York:20280709T080000
DTEND;TZID=America/New_York:20280709T170000
DTSTAMP:20260420T205244
CREATED:20260210T210053Z
LAST-MODIFIED:20260210T210316Z
UID:10002208-1846742400-1846774800@my.sowhenitbe.com
SUMMARY:BeerSheba Grotto Stated Meeting
DESCRIPTION:The BeerSheba Grotto Stated Meeting is held on the second Sunday of each month and is open to Prophets in good standing. \nThe afternoon begins with fellowship from 1:00 to 2:00 PM\, followed by a shared meal from 2:00 to 3:00 PM. The Stated Meeting begins promptly at 3:00 PM. \nThese meetings provide the opportunity to conduct the business of the Grotto\, strengthen fellowship\, and continue the traditions of BeerSheba Grotto.
URL:https://my.sowhenitbe.com/event/beersheba-grotto-stated-meeting/2028-07-09/
LOCATION:Waynebrook Inn and Suites\, 4690 Horseshoe Pike\, Honey Brook\, PA\, 19344\, United States
CATEGORIES:Stated Meeting
ATTACH;FMTTYPE=image/jpeg:https://my.sowhenitbe.com/wp-content/uploads/2026/02/imgi_17_waynebrook-inn-2048x1536-1.jpeg
GEO:40.0955439;-75.9134276
X-APPLE-STRUCTURED-LOCATION;VALUE=URI;X-ADDRESS=Waynebrook Inn and Suites 4690 Horseshoe Pike Honey Brook PA 19344 United States;X-APPLE-RADIUS=500;X-TITLE=4690 Horseshoe Pike:geo:-75.9134276,40.0955439
END:VEVENT
END:VCALENDAR