BEGIN:VCALENDAR
VERSION:2.0
PRODID:-//SoWhenItBe - ECPv6.15.15//NONSGML v1.0//EN
CALSCALE:GREGORIAN
METHOD:PUBLISH
X-WR-CALNAME:SoWhenItBe
X-ORIGINAL-URL:https://my.sowhenitbe.com
X-WR-CALDESC:Events for SoWhenItBe
REFRESH-INTERVAL;VALUE=DURATION:PT1H
X-Robots-Tag:noindex
X-PUBLISHED-TTL:PT1H
BEGIN:VTIMEZONE
TZID:America/New_York
BEGIN:DAYLIGHT
TZOFFSETFROM:-0500
TZOFFSETTO:-0400
TZNAME:EDT
DTSTART:20270314T070000
END:DAYLIGHT
BEGIN:STANDARD
TZOFFSETFROM:-0400
TZOFFSETTO:-0500
TZNAME:EST
DTSTART:20271107T060000
END:STANDARD
BEGIN:DAYLIGHT
TZOFFSETFROM:-0500
TZOFFSETTO:-0400
TZNAME:EDT
DTSTART:20280312T070000
END:DAYLIGHT
BEGIN:STANDARD
TZOFFSETFROM:-0400
TZOFFSETTO:-0500
TZNAME:EST
DTSTART:20281105T060000
END:STANDARD
BEGIN:DAYLIGHT
TZOFFSETFROM:-0500
TZOFFSETTO:-0400
TZNAME:EDT
DTSTART:20290311T070000
END:DAYLIGHT
BEGIN:STANDARD
TZOFFSETFROM:-0400
TZOFFSETTO:-0500
TZNAME:EST
DTSTART:20291104T060000
END:STANDARD
END:VTIMEZONE
BEGIN:VEVENT
DTSTART;TZID=America/New_York:20280801T193000
DTEND;TZID=America/New_York:20280801T210000
DTSTAMP:20260421T164150
CREATED:20260122T234728Z
LAST-MODIFIED:20260218T131648Z
UID:10002399-1848771000-1848776400@my.sowhenitbe.com
SUMMARY:Brandywine-Goddard Lodge No. 383
DESCRIPTION:The stated monthly meeting of Brandywine-Goddard Lodge No. 383\, Free and Accepted Masons. \nAll members are requested to attend. Visiting Brothers are welcome.\nPlease arrive early for fellowship prior to the meeting. \nWorshipful Master: Jasper Paige \nBrandywine-Goddard Lodge No. 383\nLodge Apparel & Regalia Store
URL:https://my.sowhenitbe.com/event/brandywine-goddard-lodge-no-383/2028-08-01/
LOCATION:Brandywine-Goddard Lodge No. 383\, 360 Lincoln Highway East\, Coatesville\, 19320
CATEGORIES:Stated Meeting
ATTACH;FMTTYPE=image/jpeg:https://my.sowhenitbe.com/wp-content/uploads/2026/01/Brandywine-Goddard1.jpg
GEO:39.9838970;-75.8182841
X-APPLE-STRUCTURED-LOCATION;VALUE=URI;X-ADDRESS=Brandywine-Goddard Lodge No. 383 360 Lincoln Highway East Coatesville 19320;X-APPLE-RADIUS=500;X-TITLE=360 Lincoln Highway East:geo:-75.8182841,39.9838970
END:VEVENT
BEGIN:VEVENT
DTSTART;TZID=America/New_York:20280802T120000
DTEND;TZID=America/New_York:20280802T133000
DTSTAMP:20260421T164150
CREATED:20260210T212216Z
LAST-MODIFIED:20260226T131208Z
UID:10002270-1848830400-1848835800@my.sowhenitbe.com
SUMMARY:Valley Forge High Twelve Club Meeting
DESCRIPTION:The Valley Forge High Twelve Club holds its regular monthly meeting at VK Brewing in Exton\, Pennsylvania. \nThis meeting is held once per month and follows a consistent schedule. Members gather for fellowship\, discussion\, and club business in a relaxed setting. \nPlease plan to arrive on time. Any special announcements or schedule changes will be communicated separately.
URL:https://my.sowhenitbe.com/event/valley-forge-high-twelve-club-stated-meeting/2028-08-02/
LOCATION:VK Brewing\, 693 Lincoln Hwy\, Exton\, 19341\, United States
CATEGORIES:Special Meetings
ATTACH;FMTTYPE=image/jpeg:https://my.sowhenitbe.com/wp-content/uploads/2026/02/2022-10-03.jpg
GEO:40.030098;-75.6100628
X-APPLE-STRUCTURED-LOCATION;VALUE=URI;X-ADDRESS=VK Brewing 693 Lincoln Hwy Exton 19341 United States;X-APPLE-RADIUS=500;X-TITLE=693 Lincoln Hwy:geo:-75.6100628,40.030098
END:VEVENT
BEGIN:VEVENT
DTSTART;TZID=America/New_York:20280802T193000
DTEND;TZID=America/New_York:20280802T210000
DTSTAMP:20260421T164150
CREATED:20260123T205504Z
LAST-MODIFIED:20260218T131737Z
UID:10002706-1848857400-1848862800@my.sowhenitbe.com
SUMMARY:Oxford Lodge No. 353
DESCRIPTION:Oxford Lodge No. 353 holds its stated meeting on the first Wednesday of each month\, serving Oxford and the surrounding area. The Lodge meets to conduct its regular business and uphold the traditions of Freemasonry. \n📍 Location:246 North 3rd StreetOxford\, PA 19363 \nVisiting Master Masons in good standing are welcome. \nCheck out our Lodge Apparel & Regalia Store by clicking here!
URL:https://my.sowhenitbe.com/event/oxford-lodge-no-353-2/2028-08-02/
LOCATION:Oxford Lodge No. 353\, 246 North 3rd Street\, Oxford\, 19363\, United States
CATEGORIES:Stated Meeting
ATTACH;FMTTYPE=image/jpeg:https://my.sowhenitbe.com/wp-content/uploads/2026/01/imgi_7_Oxford-Lodge.jpg
GEO:39.7910025;-75.9773801
X-APPLE-STRUCTURED-LOCATION;VALUE=URI;X-ADDRESS=Oxford Lodge No. 353 246 North 3rd Street Oxford 19363 United States;X-APPLE-RADIUS=500;X-TITLE=246 North 3rd Street:geo:-75.9773801,39.7910025
END:VEVENT
BEGIN:VEVENT
DTSTART;TZID=America/New_York:20280803T193000
DTEND;TZID=America/New_York:20280803T203000
DTSTAMP:20260421T164150
CREATED:20260409T155851Z
LAST-MODIFIED:20260409T155851Z
UID:10003086-1848943800-1848947400@my.sowhenitbe.com
SUMMARY:Spring-Ford Lodge No. 553 Stated Meeting
DESCRIPTION:Join us for the Monthly Stated Meeting of Spring-Ford Lodge No. 553. All Brothers are encouraged to attend for fellowship\, lodge business\, and continued Masonic work. \nDinner will be served prior to the meeting at 6:30 PM\, followed by the stated meeting. \n📍 Location:\nSpring-Ford Lodge No. 553\n659 Church Street\nRoyersford\, PA 19468 \nThis is a regular monthly meeting and an important opportunity to stay engaged with the Lodge and its ongoing activities.
URL:https://my.sowhenitbe.com/event/spring-ford-lodge-no-553-stated-meeting/2028-08-03/
LOCATION:Spring-Ford Lodge No. 553\, 659 Church St\, Royersford\, 19468
CATEGORIES:Stated Meeting
ATTACH;FMTTYPE=image/jpeg:https://my.sowhenitbe.com/wp-content/uploads/2026/04/IMG_0646-1.jpeg
GEO:40.1900184;-75.5360277
X-APPLE-STRUCTURED-LOCATION;VALUE=URI;X-ADDRESS=Spring-Ford Lodge No. 553 659 Church St Royersford 19468;X-APPLE-RADIUS=500;X-TITLE=659 Church St:geo:-75.5360277,40.1900184
END:VEVENT
BEGIN:VEVENT
DTSTART;TZID=America/New_York:20280803T193000
DTEND;TZID=America/New_York:20280803T210000
DTSTAMP:20260421T164150
CREATED:20260123T174949Z
LAST-MODIFIED:20260218T131714Z
UID:10002522-1848943800-1848949200@my.sowhenitbe.com
SUMMARY:Kennett Lodge No. 475
DESCRIPTION:Kennett Lodge No. 475 holds its stated meeting on the first Thursday of each month\, serving Kennett Square and the surrounding area. The Lodge meets in fellowship to conduct its business and promote the principles of Freemasonry. \n📍 Location:121 Center StreetKennett Square\, PA 19348 \nVisiting Master Masons in good standing are welcome. \nCheck out our Lodge Apparel & Regalia Store by clicking here!
URL:https://my.sowhenitbe.com/event/kennett-lodge-no-475/2028-08-03/
LOCATION:Kennett Masonic Lodge\, 121 Center Street\, Kennett Square\, 19348\, United States
CATEGORIES:Stated Meeting
ATTACH;FMTTYPE=image/jpeg:https://my.sowhenitbe.com/wp-content/uploads/2026/01/326477307_1532924247113186_7716930872616811998_n1.jpg
GEO:39.8457547;-75.7132607
X-APPLE-STRUCTURED-LOCATION;VALUE=URI;X-ADDRESS=Kennett Masonic Lodge 121 Center Street Kennett Square 19348 United States;X-APPLE-RADIUS=500;X-TITLE=121 Center Street:geo:-75.7132607,39.8457547
END:VEVENT
END:VCALENDAR