BEGIN:VCALENDAR
VERSION:2.0
PRODID:-//SoWhenItBe - ECPv6.15.15//NONSGML v1.0//EN
CALSCALE:GREGORIAN
METHOD:PUBLISH
X-ORIGINAL-URL:https://my.sowhenitbe.com
X-WR-CALDESC:Events for SoWhenItBe
REFRESH-INTERVAL;VALUE=DURATION:PT1H
X-Robots-Tag:noindex
X-PUBLISHED-TTL:PT1H
BEGIN:VTIMEZONE
TZID:America/New_York
BEGIN:DAYLIGHT
TZOFFSETFROM:-0500
TZOFFSETTO:-0400
TZNAME:EDT
DTSTART:20250309T070000
END:DAYLIGHT
BEGIN:STANDARD
TZOFFSETFROM:-0400
TZOFFSETTO:-0500
TZNAME:EST
DTSTART:20251102T060000
END:STANDARD
BEGIN:DAYLIGHT
TZOFFSETFROM:-0500
TZOFFSETTO:-0400
TZNAME:EDT
DTSTART:20260308T070000
END:DAYLIGHT
BEGIN:STANDARD
TZOFFSETFROM:-0400
TZOFFSETTO:-0500
TZNAME:EST
DTSTART:20261101T060000
END:STANDARD
BEGIN:DAYLIGHT
TZOFFSETFROM:-0500
TZOFFSETTO:-0400
TZNAME:EDT
DTSTART:20270314T070000
END:DAYLIGHT
BEGIN:STANDARD
TZOFFSETFROM:-0400
TZOFFSETTO:-0500
TZNAME:EST
DTSTART:20271107T060000
END:STANDARD
END:VTIMEZONE
BEGIN:VEVENT
DTSTART;TZID=America/New_York:20260523T170000
DTEND;TZID=America/New_York:20260523T200000
DTSTAMP:20260420T090029
CREATED:20260419T233026Z
LAST-MODIFIED:20260419T233104Z
UID:10003123-1779555600-1779566400@my.sowhenitbe.com
SUMMARY:150 years of Masonic Light - New London Lodge No. 545
DESCRIPTION:Join New London Lodge No. 545 for a special evening celebrating 150 years since the Lodge was constituted in Pennsylvania. This memorable event will honor a century and a half of Masonic Light\, fellowship\, and tradition. \nGuests will enjoy a social hour followed by a banquet as brethren\, family\, friends\, and supporters gather to mark this historic milestone. \nWe look forward to celebrating 150 years of service\, brotherhood\, and legacy together.
URL:https://my.sowhenitbe.com/event/150-years-of-masonic-light/
LOCATION:The Willows at Historic Strasburg\, 1500 Historic Drive\, Strasburg\, 17579
CATEGORIES:Public & Community Events
ATTACH;FMTTYPE=image/avif:https://my.sowhenitbe.com/wp-content/uploads/2026/04/742cdb_ad60e7b0b6fc42528e39b20c9cfdc7a6mv2_d_3600_2400_s_4_2.avif
END:VEVENT
END:VCALENDAR